BEGIN:VCALENDAR
VERSION:2.0
PRODID:spatie/icalendar-generator
BEGIN:VTIMEZONE
TZID:UTC
BEGIN:STANDARD
DTSTART:20241226T063000
TZOFFSETFROM:+0000
TZOFFSETTO:+0000
END:STANDARD
END:VTIMEZONE
BEGIN:VEVENT
UID:250c29a2-781f-479d-a015-b58cc1fc92c3--0
DTSTAMP:20260423T175800Z
SUMMARY:Micro-credential 'Vennootschaps- en rechtspersonenrecht'
LOCATION:Campus Aula (Faculteit Recht en Criminologie\, UGent)
ORGANIZER;CN=Gandaius Permanente Vorming:MAILTO:gandaius@ugent.be
DTSTART:20250922T063000Z
DTEND:20260131T153000Z
END:VEVENT
END:VCALENDAR