BEGIN:VCALENDAR
VERSION:2.0
PRODID:spatie/icalendar-generator
BEGIN:VTIMEZONE
TZID:UTC
BEGIN:STANDARD
DTSTART:20241226T063000
TZOFFSETFROM:+0000
TZOFFSETTO:+0000
END:STANDARD
END:VTIMEZONE
BEGIN:VEVENT
UID:76616029-b7f1-4b82-a70e-9c9137b3dc00--0
DTSTAMP:20260420T215006Z
SUMMARY:Micro-credential 'Consumentenrecht'
LOCATION:Campus Aula (Faculteit Recht en Criminologie\, UGent)
ORGANIZER;CN=Gandaius Permanente Vorming:MAILTO:gandaius@ugent.be
DTSTART:20250922T063000Z
DTEND:20260131T153000Z
END:VEVENT
END:VCALENDAR