BEGIN:VCALENDAR
VERSION:2.0
PRODID:spatie/icalendar-generator
BEGIN:VTIMEZONE
TZID:UTC
BEGIN:STANDARD
DTSTART:20220723T140000
TZOFFSETFROM:+0000
TZOFFSETTO:+0000
END:STANDARD
END:VTIMEZONE
BEGIN:VEVENT
UID:5f9ea16b-8558-4731-8cc6-b41ac03d088e--0
DTSTAMP:20260405T083012Z
SUMMARY:Nieuwe mobiliteit: verzekering\, wegcode\, wegverkeerswet en rijbew
 ijs
LOCATION:Auditorium D
ORGANIZER;CN=Gandaius Permanente Vorming:MAILTO:gandaius@ugent.be
DTSTART:20230419T140000Z
DTEND:20230419T160000Z
END:VEVENT
END:VCALENDAR