BEGIN:VCALENDAR
VERSION:2.0
PRODID:spatie/icalendar-generator
BEGIN:VTIMEZONE
TZID:UTC
BEGIN:STANDARD
DTSTART:20220801T130000
TZOFFSETFROM:+0000
TZOFFSETTO:+0000
END:STANDARD
END:VTIMEZONE
BEGIN:VEVENT
UID:30b610fa-5084-44a0-b83d-6939535559e0--0
DTSTAMP:20260420T183419Z
SUMMARY:Hervorming fiscale en sociale behandeling auteursrechten
LOCATION:Auditorium E
ORGANIZER;CN=Gandaius Permanente Vorming:MAILTO:gandaius@ugent.be
DTSTART:20230428T130000Z
DTEND:20230428T150000Z
END:VEVENT
END:VCALENDAR