BEGIN:VCALENDAR
VERSION:2.0
PRODID:spatie/icalendar-generator
BEGIN:VTIMEZONE
TZID:UTC
BEGIN:STANDARD
DTSTART:20241226T063000
TZOFFSETFROM:+0000
TZOFFSETTO:+0000
END:STANDARD
END:VTIMEZONE
BEGIN:VEVENT
UID:760b189d-7c0c-4f63-b853-0c3716923bbe--0
DTSTAMP:20260420T230325Z
SUMMARY:Micro-credential 'Bijzondere overeenkomsten'
LOCATION:Campus Aula (Faculteit Recht en Criminologie\, UGent)
ORGANIZER;CN=Gandaius Permanente Vorming:MAILTO:gandaius@ugent.be
DTSTART:20250922T063000Z
DTEND:20260131T153000Z
END:VEVENT
END:VCALENDAR