BEGIN:VCALENDAR
VERSION:2.0
PRODID:spatie/icalendar-generator
BEGIN:VTIMEZONE
TZID:UTC
BEGIN:STANDARD
DTSTART:20241226T063000
TZOFFSETFROM:+0000
TZOFFSETTO:+0000
END:STANDARD
END:VTIMEZONE
BEGIN:VEVENT
UID:c794a8c9-4527-44c1-a63e-3b8ff9fa5d5c--0
DTSTAMP:20260421T155506Z
SUMMARY:Insolventie-\, zekerheden en executierecht (5 studiepunten)
LOCATION:Campus Aula (Faculteit Recht en Criminologie\, UGent)
ORGANIZER;CN=Gandaius Permanente Vorming:MAILTO:gandaius@ugent.be
DTSTART:20250922T063000Z
DTEND:20260131T153000Z
END:VEVENT
END:VCALENDAR