BEGIN:VCALENDAR
VERSION:2.0
PRODID:spatie/icalendar-generator
BEGIN:VTIMEZONE
TZID:UTC
BEGIN:STANDARD
DTSTART:20200508T180000
TZOFFSETFROM:+0000
TZOFFSETTO:+0000
END:STANDARD
END:VTIMEZONE
BEGIN:VEVENT
UID:446b90b4-7645-4811-bc61-7fa49b00f766--0
DTSTAMP:20260422T134208Z
SUMMARY:sessie 5: Intellectuele rechten en digitale producten
LOCATION:
ORGANIZER;CN=Gandaius Permanente Vorming:MAILTO:gandaius@ugent.be
DTSTART:20210202T180000Z
DTEND:20210202T200000Z
END:VEVENT
END:VCALENDAR