BEGIN:VCALENDAR
VERSION:2.0
PRODID:spatie/icalendar-generator
BEGIN:VTIMEZONE
TZID:UTC
BEGIN:STANDARD
DTSTART:20200515T180000
TZOFFSETFROM:+0000
TZOFFSETTO:+0000
END:STANDARD
END:VTIMEZONE
BEGIN:VEVENT
UID:a105e4bc-238b-4d7a-b95c-0e1f9bc22462--0
DTSTAMP:20260422T134208Z
SUMMARY:sessie 7: Digitaal Strafrecht
LOCATION:
ORGANIZER;CN=Gandaius Permanente Vorming:MAILTO:gandaius@ugent.be
DTSTART:20210209T180000Z
DTEND:20210209T200000Z
END:VEVENT
END:VCALENDAR