BEGIN:VCALENDAR
VERSION:2.0
PRODID:spatie/icalendar-generator
BEGIN:VTIMEZONE
TZID:UTC
BEGIN:STANDARD
DTSTART:20250726T112246
TZOFFSETFROM:+0000
TZOFFSETTO:+0000
END:STANDARD
END:VTIMEZONE
BEGIN:VEVENT
UID:a8e11884-3c34-4e37-bb79-1b7a00fbb322--0
DTSTAMP:20260422T112246Z
SUMMARY:Gerechtelijke bemiddeling: een aparte aanpak
LOCATION:Faculteit Psychologie en Pedagogische Wetenschappen
ORGANIZER;CN=Gandaius Permanente Vorming:MAILTO:gandaius@ugent.be
DTSTART:20260611T071500Z
DTEND:20260611T133000Z
END:VEVENT
END:VCALENDAR