BEGIN:VCALENDAR
VERSION:2.0
PRODID:spatie/icalendar-generator
BEGIN:VTIMEZONE
TZID:UTC
BEGIN:STANDARD
DTSTART:20250725T140454
TZOFFSETFROM:+0000
TZOFFSETTO:+0000
END:STANDARD
END:VTIMEZONE
BEGIN:VEVENT
UID:7d101622-0b3b-4eb4-8963-39467dd91dbe--0
DTSTAMP:20260421T140454Z
SUMMARY:Kindgerichte ouderschapsbemiddeling: werken met ouders en kinderen
LOCATION:Faculteit Psychologie en Pedagogische Wetenschappen
ORGANIZER;CN=Gandaius Permanente Vorming:MAILTO:gandaius@ugent.be
DTSTART:20260625T071500Z
DTEND:20260625T133000Z
END:VEVENT
BEGIN:VEVENT
UID:7d101622-0b3b-4eb4-8963-39467dd91dbe--1
DTSTAMP:20260421T140454Z
SUMMARY:Kindgerichte ouderschapsbemiddeling: werken met ouders en kinderen
LOCATION:Faculteit Psychologie en Pedagogische Wetenschappen
ORGANIZER;CN=Gandaius Permanente Vorming:MAILTO:gandaius@ugent.be
DTSTART:20260702T071500Z
DTEND:20260702T133000Z
END:VEVENT
END:VCALENDAR