BEGIN:VCALENDAR
VERSION:2.0
PRODID:spatie/icalendar-generator
BEGIN:VTIMEZONE
TZID:UTC
BEGIN:STANDARD
DTSTART:20250725T172348
TZOFFSETFROM:+0000
TZOFFSETTO:+0000
END:STANDARD
END:VTIMEZONE
BEGIN:VEVENT
UID:3cde86aa-835e-4c13-99f6-6e846e31b9ad--0
DTSTAMP:20260421T172348Z
SUMMARY:RKN 48 - INCLUSIEF verslagboek
LOCATION:Auditorium A
ORGANIZER;CN=Gandaius Permanente Vorming:MAILTO:gandaius@ugent.be
DTSTART:20260528T160000Z
DTEND:20260528T190000Z
END:VEVENT
END:VCALENDAR