BEGIN:VCALENDAR
VERSION:2.0
PRODID:spatie/icalendar-generator
BEGIN:VTIMEZONE
TZID:UTC
BEGIN:STANDARD
DTSTART:20250725T172344
TZOFFSETFROM:+0000
TZOFFSETTO:+0000
END:STANDARD
END:VTIMEZONE
BEGIN:VEVENT
UID:842809d6-620e-4718-adb4-a77104903bf3--0
DTSTAMP:20260421T172344Z
SUMMARY:RKN 48 - ZONDER verslagboek
LOCATION:Auditorium A
ORGANIZER;CN=Gandaius Permanente Vorming:MAILTO:gandaius@ugent.be
DTSTART:20260528T160000Z
DTEND:20260528T190000Z
END:VEVENT
END:VCALENDAR